BEGIN:VCALENDAR
PRODID:-//www.sandringham.kite.academy//EN
VERSION:2.0
METHOD:PUBLISH
BEGIN:VEVENT
DTSTART;TZID=Europe/London:20181017T090000
DTEND;TZID=Europe/London:20181017T100000
URL:https://www.sandringham.kite.academy/news-and-events/calendar/maths-mates-parent-talk/
SUMMARY:Maths Mates Parent Talk
END:VEVENT
END:VCALENDAR