BEGIN:VCALENDAR
PRODID:-//www.sandringham.kite.academy//EN
VERSION:2.0
METHOD:PUBLISH
BEGIN:VEVENT
DTSTART;TZID=Europe/London:20181022T
DTEND;TZID=Europe/London:20181026T
URL:https://www.sandringham.kite.academy/news-and-events/calendar/half-term/
SUMMARY:Half Term Holidays
END:VEVENT
END:VCALENDAR