BEGIN:VCALENDAR
PRODID:-//www.sandringham.kite.academy//EN
VERSION:2.0
METHOD:PUBLISH
BEGIN:VEVENT
DTSTART;TZID=Europe/London:20181207T133000
DTEND;TZID=Europe/London:20181207T150000
URL:https://www.sandringham.kite.academy/news-and-events/calendar/elf-run/
SUMMARY:Reindeer Run
END:VEVENT
END:VCALENDAR