BEGIN:VCALENDAR
PRODID:-//www.sandringham.kite.academy//EN
VERSION:2.0
METHOD:PUBLISH
BEGIN:VEVENT
DTSTART;TZID=Europe/London:20181214T
DTEND;TZID=Europe/London:20181214T
URL:https://www.sandringham.kite.academy/news-and-events/calendar/christingle-and-christmas-jumpers/
SUMMARY:Christingle & Christmas Jumpers & Christmas Lunch
END:VEVENT
END:VCALENDAR