BEGIN:VCALENDAR
PRODID:-//www.sandringham.kite.academy//EN
VERSION:2.0
METHOD:PUBLISH
BEGIN:VEVENT
DTSTART;TZID=Europe/London:20181219T085000
DTEND;TZID=Europe/London:20181219T133000
URL:https://www.sandringham.kite.academy/news-and-events/calendar/school-and-nursery-end-of-term/
SUMMARY:End of Term
END:VEVENT
END:VCALENDAR