BEGIN:VCALENDAR
PRODID:-//www.sandringham.kite.academy//EN
VERSION:2.0
METHOD:PUBLISH
BEGIN:VEVENT
DTSTART;TZID=Europe/London:20190123T120000
DTEND;TZID=Europe/London:20190123T123000
URL:https://www.sandringham.kite.academy/news-and-events/calendar/assertive-mentorin/
SUMMARY:Hedgehogs Parent Lunch
END:VEVENT
END:VCALENDAR