BEGIN:VCALENDAR
PRODID:-//www.sandringham.kite.academy//EN
VERSION:2.0
METHOD:PUBLISH
BEGIN:VEVENT
DTSTART;TZID=Europe/London:20190125T
DTEND;TZID=Europe/London:20190125T
URL:https://www.sandringham.kite.academy/news-and-events/calendar/creative-arts-day/
SUMMARY:Creative Arts Day
END:VEVENT
END:VCALENDAR