BEGIN:VCALENDAR
PRODID:-//www.sandringham.kite.academy//EN
VERSION:2.0
METHOD:PUBLISH
BEGIN:VEVENT
DTSTART;TZID=Europe/London:20190327T091500
DTEND;TZID=Europe/London:20190327T111500
URL:https://www.sandringham.kite.academy/news-and-events/calendar/ukulele-concert/
SUMMARY:Ukulele Concert
END:VEVENT
END:VCALENDAR