BEGIN:VCALENDAR
PRODID:-//www.sandringham.kite.academy//EN
VERSION:2.0
METHOD:PUBLISH
BEGIN:VEVENT
DTSTART;TZID=Europe/London:20190329T091500
DTEND;TZID=Europe/London:20190329T
URL:https://www.sandringham.kite.academy/news-and-events/calendar/nursery-and-reception-mothers-day-assembly/
SUMMARY:Nursery & Reception Mothers Day Assembly
END:VEVENT
END:VCALENDAR