BEGIN:VCALENDAR
PRODID:-//www.sandringham.kite.academy//EN
VERSION:2.0
METHOD:PUBLISH
BEGIN:VEVENT
DTSTART;TZID=Europe/London:20190503T
DTEND;TZID=Europe/London:20190503T
URL:https://www.sandringham.kite.academy/news-and-events/calendar/super-scientists-day/
SUMMARY:Super Scientists Day
END:VEVENT
END:VCALENDAR