BEGIN:VCALENDAR
PRODID:-//www.sandringham.kite.academy//EN
VERSION:2.0
METHOD:PUBLISH
BEGIN:VEVENT
DTSTART;TZID=Europe/London:20190506T
DTEND;TZID=Europe/London:20190506T
URL:https://www.sandringham.kite.academy/news-and-events/calendar/bank-holiday/
SUMMARY:Bank Holiday
END:VEVENT
END:VCALENDAR