BEGIN:VCALENDAR
PRODID:-//www.sandringham.kite.academy//EN
VERSION:2.0
METHOD:PUBLISH
BEGIN:VEVENT
DTSTART;TZID=Europe/London:20190614T091500
DTEND;TZID=Europe/London:20190614T100000
URL:https://www.sandringham.kite.academy/news-and-events/calendar/nursery-and-reception-fathers-day-assembly/
SUMMARY:Nursery & Reception Fathers Day Assembly
END:VEVENT
END:VCALENDAR