BEGIN:VCALENDAR
PRODID:-//www.sandringham.kite.academy//EN
VERSION:2.0
METHOD:PUBLISH
BEGIN:VEVENT
DTSTART;TZID=Europe/London:20190107T
DTEND;TZID=Europe/London:20190107T
URL:https://www.sandringham.kite.academy/news-and-events/calendar/children-return-to-school-and-nursery-2/
SUMMARY:Children Return to School
END:VEVENT
END:VCALENDAR