BEGIN:VCALENDAR
PRODID:-//www.sandringham.kite.academy//EN
VERSION:2.0
METHOD:PUBLISH
BEGIN:VEVENT
DTSTART;TZID=Europe/London:20190714T
DTEND;TZID=Europe/London:20190714T
URL:https://www.sandringham.kite.academy/news-and-events/calendar/frimley-green-carnival/
SUMMARY:Frimley Green Carnival
END:VEVENT
END:VCALENDAR