BEGIN:VCALENDAR
PRODID:-//www.sandringham.kite.academy//EN
VERSION:2.0
METHOD:PUBLISH
BEGIN:VEVENT
DTSTART;TZID=Europe/London:20200722T
DTEND;TZID=Europe/London:20200722T
URL:https://www.sandringham.kite.academy/news-and-events/calendar/kite-academy-trust-holiday/
SUMMARY:Kite Academy Trust Holiday
END:VEVENT
END:VCALENDAR