BEGIN:VCALENDAR
PRODID:-//www.sandringham.kite.academy//EN
VERSION:2.0
METHOD:PUBLISH
BEGIN:VEVENT
DTSTART;TZID=Europe/London:20191025T085000
DTEND;TZID=Europe/London:20191025T151000
URL:https://www.sandringham.kite.academy/news-and-events/calendar/end-of-half-term/
SUMMARY:End of Half Term
END:VEVENT
END:VCALENDAR