BEGIN:VCALENDAR
PRODID:-//www.sandringham.kite.academy//EN
VERSION:2.0
METHOD:PUBLISH
BEGIN:VEVENT
DTSTART;TZID=Europe/London:20190607T133000
DTEND;TZID=Europe/London:20190607T143000
URL:https://www.sandringham.kite.academy/news-and-events/calendar/visit-from-mr-whipp/
SUMMARY:Visit from Mr Whippy
END:VEVENT
END:VCALENDAR