BEGIN:VCALENDAR
PRODID:-//www.sandringham.kite.academy//EN
VERSION:2.0
METHOD:PUBLISH
BEGIN:VEVENT
DTSTART;TZID=Europe/London:20190910T133000
DTEND;TZID=Europe/London:20190910T153000
URL:https://www.sandringham.kite.academy/news-and-events/calendar/new-reception-children-first-afternoon-group-1/
SUMMARY:Reception Children First Afternoon - Group 1
END:VEVENT
END:VCALENDAR