BEGIN:VCALENDAR
PRODID:-//www.sandringham.kite.academy//EN
VERSION:2.0
METHOD:PUBLISH
BEGIN:VEVENT
DTSTART;TZID=Europe/London:20190911T093000
DTEND;TZID=Europe/London:20190911T123000
URL:https://www.sandringham.kite.academy/news-and-events/calendar/reception-children-full-morning/
SUMMARY:Reception Children Full Morning
END:VEVENT
END:VCALENDAR