BEGIN:VCALENDAR
PRODID:-//www.sandringham.kite.academy//EN
VERSION:2.0
METHOD:PUBLISH
BEGIN:VEVENT
DTSTART;TZID=Europe/London:20190910T093000
DTEND;TZID=Europe/London:20190910T113000
URL:https://www.sandringham.kite.academy/news-and-events/calendar/reception-children-first-morning-group-2/
SUMMARY:Reception Children First Morning - Group 2
END:VEVENT
END:VCALENDAR