BEGIN:VCALENDAR
PRODID:-//www.sandringham.kite.academy//EN
VERSION:2.0
METHOD:PUBLISH
BEGIN:VEVENT
DTSTART;TZID=Europe/London:20190517T093000
DTEND;TZID=Europe/London:20190517T103000
URL:https://www.sandringham.kite.academy/news-and-events/calendar/reception-cake-sale-enterprise/
SUMMARY:Reception Cake Sale Enterprise
END:VEVENT
END:VCALENDAR