BEGIN:VCALENDAR
PRODID:-//www.sandringham.kite.academy//EN
VERSION:2.0
METHOD:PUBLISH
BEGIN:VEVENT
DTSTART;TZID=Europe/London:20190626T193000
DTEND;TZID=Europe/London:20190626T213000
URL:https://www.sandringham.kite.academy/news-and-events/calendar/cake-decorating/
SUMMARY:Cake Decorating 
END:VEVENT
END:VCALENDAR