BEGIN:VCALENDAR
PRODID:-//www.sandringham.kite.academy//EN
VERSION:2.0
METHOD:PUBLISH
BEGIN:VEVENT
DTSTART;TZID=Europe/London:20191023T
DTEND;TZID=Europe/London:20191023T
URL:https://www.sandringham.kite.academy/news-and-events/calendar/diwali-celebrations/
SUMMARY:Diwali Celebrations
END:VEVENT
END:VCALENDAR