BEGIN:VCALENDAR
PRODID:-//www.sandringham.kite.academy//EN
VERSION:2.0
METHOD:PUBLISH
BEGIN:VEVENT
DTSTART;TZID=Europe/London:20190924T090000
DTEND;TZID=Europe/London:20190924T120000
URL:https://www.sandringham.kite.academy/news-and-events/calendar/photographer-taking-individual-photos/
SUMMARY:Photographer taking Individual Photos (not nursery)
END:VEVENT
END:VCALENDAR