BEGIN:VCALENDAR
PRODID:-//www.sandringham.kite.academy//EN
VERSION:2.0
METHOD:PUBLISH
BEGIN:VEVENT
DTSTART;TZID=Europe/London:20200225T
DTEND;TZID=Europe/London:20200225T
URL:https://www.sandringham.kite.academy/news-and-events/calendar/2nd-hand-uniform-sale/
SUMMARY:2nd Hand Uniform Sale
END:VEVENT
END:VCALENDAR