BEGIN:VCALENDAR
PRODID:-//www.sandringham.kite.academy//EN
VERSION:2.0
METHOD:PUBLISH
BEGIN:VEVENT
DTSTART;TZID=Europe/London:20200327T174500
DTEND;TZID=Europe/London:20200327T184500
URL:https://www.sandringham.kite.academy/news-and-events/calendar/year-1-and-2-glow-disco/
SUMMARY:Year 1 & 2 Glow Disco
END:VEVENT
END:VCALENDAR