BEGIN:VCALENDAR
PRODID:-//www.sandringham.kite.academy//EN
VERSION:2.0
METHOD:PUBLISH
BEGIN:VEVENT
DTSTART;TZID=Europe/London:20200318T190000
DTEND;TZID=Europe/London:20200318T203000
URL:https://www.sandringham.kite.academy/news-and-events/calendar/bedtime-routines-workshop/
SUMMARY:Bedtime Routines Workshop
END:VEVENT
END:VCALENDAR